BEGIN:VCALENDAR
VERSION:2.0
PRODID:-//hacksw/handcal//NONSGML v1.0//EN
BEGIN:VEVENT
SUMMARY:Sejour Compo GR Juillet 2026
UID:17074070-059f-44ec-98d3-aae4954f1313
DTSTART:20260703T220000Z
DTEND:20260710T220000Z
LOCATION:Localisation Rue de souvenir francais 27740 Poses
CATEGORIES:Sportif
STATUS:
URL;VALUE=URI:https://www.gr-rambouillet.fr/evenements/2026/07/04/sejour-compo-gr-juillet-2026-2430657
END:VEVENT
END:VCALENDAR
